BEGIN:VCALENDAR
VERSION:2.0
PRODID:-// - ECPv6.7.0//NONSGML v1.0//EN
CALSCALE:GREGORIAN
METHOD:PUBLISH
X-ORIGINAL-URL:https://cr-dialog.com
X-WR-CALDESC:Events for 
REFRESH-INTERVAL;VALUE=DURATION:PT1H
X-Robots-Tag:noindex
X-PUBLISHED-TTL:PT1H
BEGIN:VTIMEZONE
TZID:Asia/Krasnoyarsk
BEGIN:STANDARD
TZOFFSETFROM:+0700
TZOFFSETTO:+0700
TZNAME:+07
DTSTART:20250101T000000
END:STANDARD
END:VTIMEZONE
BEGIN:VEVENT
DTSTART;TZID=Asia/Krasnoyarsk:20250605T130000
DTEND;TZID=Asia/Krasnoyarsk:20250605T160000
DTSTAMP:20260421T174942
CREATED:20250527T144049Z
LAST-MODIFIED:20250527T144105Z
UID:472-1749128400-1749139200@cr-dialog.com
SUMMARY:เสียงคนเจียงแสนหยุดเหมืองแร่พม่า
DESCRIPTION:13.00 น.-เปิดกิจกรรมศาลาลมหน้าอำเภอ ดนตรี ปราศรัย(นักวิชาการ) แจกริบบิ้น ล่ารายชื่อส่งถึงรัฐบาล\nเขียนโปสการ์ดถึงนายกฯ\n14.00 น.-แห่ขบวน “ฮอมปอย หยุดเหมือง” นำโดย นักเรียนนักศึกษา ประชาชนคนเจียงแสน เริ่มหน้าวัดพระธาตุเจดีห์หลวง-หน้าอำเภอ\n15.00น. อ่านแถลงการณ์ ยื่นหนังสือถึงรัฐบาล โดยผ่าน ดร.พิเชษฐ์ เชื้อเมืองพาน รองประธานสภาคนที่1 สส.เชียงรายเขต7.เชียงแสน เชียงของ ดอยหลวง เวียงแก่น แม่จัน2ตำบล
URL:https://cr-dialog.com/event/%e0%b9%80%e0%b8%aa%e0%b8%b5%e0%b8%a2%e0%b8%87%e0%b8%84%e0%b8%99%e0%b9%80%e0%b8%88%e0%b8%b5%e0%b8%a2%e0%b8%87%e0%b9%81%e0%b8%aa%e0%b8%99%e0%b8%ab%e0%b8%a2%e0%b8%b8%e0%b8%94%e0%b9%80%e0%b8%ab%e0%b8%a1/
LOCATION:ศาลาลมหน้าอำเภอเชียงแสน
CATEGORIES:กิจกรรมเคลื่อนไหว ศิลปะ
ATTACH;FMTTYPE=image/jpeg:https://cr-dialog.com/wp-content/uploads/2025/05/500132315_3788975131393043_4500358074915543871_n.jpg
END:VEVENT
BEGIN:VEVENT
DTSTART;TZID=Asia/Krasnoyarsk:20250601T190000
DTEND;TZID=Asia/Krasnoyarsk:20250601T203000
DTSTAMP:20260421T174942
CREATED:20250527T053626Z
LAST-MODIFIED:20250528T082242Z
UID:468-1748804400-1748809800@cr-dialog.com
SUMMARY:Jazz for the Dying River
DESCRIPTION:? รายละเอียดคิวงาน\n? 19:00 – 19:20 (20 นาที)\n? เปิดงานด้วยดนตรีจากวง “หมอ \n? 19:20 – 19:35 (15 นาที)\n?‍⚕️ คุณหมอพูดให้ความตระหนักรู้เกี่ยวกับผลกระทบด้านสุขภาพ \n? 19:35 – 19:50 (15 นาที)\n? รศ.ดร. เสถียร ฉันทะ\nผลกระทบของสารโลหะหนักต่อสุขภาพ : กรณีไข้ดำ อ.ร่อนพิบูลย์ \n? 19:50 – 20:00 (10 นาที)\n? อ.ต๊อก เชิญชวนประชาชนร่วมแสดงออกเชิงสัญลักษณ์ในวันที่ 5 มิถุนายน \n? 20:00 – 20:30 (30 นาที)\n? ดนตรีจากวง “หมอขอร้อง” ชุดที่สอง \n?Location
URL:https://cr-dialog.com/event/jazz-for-the-dying-river/
LOCATION:ร้าน Vinyl & Wine
CATEGORIES:กิจกรรมเคลื่อนไหว ศิลปะ
ATTACH;FMTTYPE=image/jpeg:https://cr-dialog.com/wp-content/uploads/2025/05/501721442_1908971979921747_1664507195543974704_n.jpg
END:VEVENT
BEGIN:VEVENT
DTSTART;TZID=Asia/Krasnoyarsk:20250601T060000
DTEND;TZID=Asia/Krasnoyarsk:20250604T200000
DTSTAMP:20260421T174942
CREATED:20250527T044340Z
LAST-MODIFIED:20250527T062723Z
UID:448-1748757600-1749067200@cr-dialog.com
SUMMARY:ดนตรีปื้นขัว (พญามังรายฝั่งบ้านใหม่)
DESCRIPTION:ดนตรีปื้นขัว (พญามังรายฝั่งบ้านใหม่) วันที่ 1 – 4 มิ.ย. เวลา 18.00 – 20.30
URL:https://cr-dialog.com/event/%e0%b8%94%e0%b8%99%e0%b8%95%e0%b8%a3%e0%b8%b5%e0%b8%9b%e0%b8%b7%e0%b9%89%e0%b8%99%e0%b8%82%e0%b8%b1%e0%b8%a7-%e0%b8%9e%e0%b8%8d%e0%b8%b2%e0%b8%a1%e0%b8%b1%e0%b8%87%e0%b8%a3%e0%b8%b2%e0%b8%a2%e0%b8%9d/
LOCATION:พญามังรายฝั่งบ้านใหม่
CATEGORIES:กิจกรรมเคลื่อนไหว ศิลปะ
ATTACH;FMTTYPE=image/jpeg:https://cr-dialog.com/wp-content/uploads/2025/05/371820.jpg
END:VEVENT
BEGIN:VEVENT
DTSTART;TZID=Asia/Krasnoyarsk:20250527T090000
DTEND;TZID=Asia/Krasnoyarsk:20250604T180000
DTSTAMP:20260421T174942
CREATED:20250527T043936Z
LAST-MODIFIED:20250527T133305Z
UID:445-1748336400-1749060000@cr-dialog.com
SUMMARY:ขัวศิลปะ ใช้ศิลปะเป็นสะพานเพื่อสร้างสรรค์
DESCRIPTION:ขัวศิลปะ ใช้ศิลปะเป็นสะพานเพื่อสร้างสรรค์\nประกาศเจตนารมณ์ #ปิดเหมือง คืนวิถีชีวิตให้คนลุ่มน้ำ “กก สาย รวก โขง”\n25 พฤษภาคม 2568 ณ ห้องประชุม ชั้น 2 พิพิธภัณฑ์ศิลปะร่วมสมัยเมืองเชียงราย(CCAM) โดยสมาคมขัวศิลปะ ดำเนินการประชุมเพื่อหารือประเด็นสิ่งแวดล้อมเพื่อจัดเตรียมกิจกรรมทางด้านศิลปะเข้าร่วมในวันสิ่งแวดล้อมสากล 5 มิถุนายน 2568 ที่จะถึงนี้ \n.\nศิลปินที่ปรึกษาอาวุโส คณะกรรมการบริหารสมาคม และเจ้าหน้าที่ที่เกี่ยวข้อง จัดการประชุมหารือเพื่อดำเนินกิจกรรมในวันสิ่งแวดล้อมโลก ผ่านกิจกรรมทางด้านศิลปะร่วมกับศิลปินเชียงราย ศิลปินเครือข่าย และพี่น้องประชาชนชาวเชียงราย จากกระแสของการได้รับผลกระทบอย่างใหญ่หลวงของชาวเชียงรายจากการตรวจพบสารพิษโลหะหนักในลำน้ำกก สาย รวก และโขง ส่งผลกระทบต่อประชาชนในการดำเนินชีวิต และรวมถึงระบบนิเวศน์ห่วงโซ่สิ่งแวดล้อม\nโดยที่ประชุมกำหนดประกาศเจตนารมณ์ในการสร้างสรรค์ผลงานศิลปะเพื่อเป็นกระบอกเสียงอีกหนึ่งรูปแบบ ซึ่งจะส่งเสียงไปยังผู้มีอำนาจในการบริหารจัดการ ทั้งนี้จะมีการระดมศิลปินเพื่อเข้าร่วมกิจกรรม และสมาคมขัวศิลปะมีความยินดีในการร่วมมือกับเครือข่ายด้านสิ่งแวดล้อม ประชาชนชาวเชียงราย ในการประชาสัมพันธ์กิจกรรมดังกล่าวในรูปแบบที่สร้างสรรค์ หากศิลปินประชาชนท่านใดมีความสนใจสามารถเข้าร่วมกิจกรรมที่จะเกิดขึ้นก่อนการจัดกิจกรรมครั้งใหญ่ ณ เชิงสะพานแม่ฟ้าหลวง (สนามฝึก รด.) โปรดติดตามรายละเอียดและกิจกรรมที่เพจ “ขัวศิลปะ” อาทิ กิจกรรมวาดโปสการ์ดบอกรักแม่น้ำกก\, กิจกรรมเพนท์ประติมากรรมปลาแค้จำนวน 1\,000 ตัว\, กิจกรรมร่วมกันสร้างประติมากรรมปลาน้ำโขงขนาดใหญ่จากวัสดุธรรมชาติ\, กิจกรรมทำริบบิ้นท์เขียว-ฟ้า เพื่อแจกจ่ายประชาชนอันเป็นกิจกรรมเชิงสัญลักษณ์\, รวมถึงกิจกรรมเขียนป้ายศิลปะต่างๆ เพื่อร่วมฮอมปอยจากคนศิลปะ ในวันที่ 5 มิถุนายน 2568 ที่จะถึง สามารถเดินทางมายังขัวศิลปะ และร่วมกิจกรรมได้\nขัวศิลปะหรือพิพิธภัณฑ์ศิลปะร่วมสมัยเมืองเชียงราย เปิดบริการวันอาคาร – อาทิตย์ (ปิดทุกวันจันทร์) เวลา 09.00 – 18.00 น.
URL:https://cr-dialog.com/event/%e0%b8%82%e0%b8%b1%e0%b8%a7%e0%b8%a8%e0%b8%b4%e0%b8%a5%e0%b8%9b%e0%b8%b0-%e0%b9%83%e0%b8%8a%e0%b9%89%e0%b8%a8%e0%b8%b4%e0%b8%a5%e0%b8%9b%e0%b8%b0%e0%b9%80%e0%b8%9b%e0%b9%87%e0%b8%99%e0%b8%aa%e0%b8%b0/
LOCATION:พิพิธภัณฑ์ศิลปะร่วมสมัยเมืองเชียงราย (CCAM) ขัวศิลปะแห่งใหม่
CATEGORIES:กิจกรรมเคลื่อนไหว ศิลปะ
ATTACH;FMTTYPE=image/jpeg:https://cr-dialog.com/wp-content/uploads/2025/05/A3.jpg
END:VEVENT
END:VCALENDAR