BEGIN:VCALENDAR
VERSION:2.0
PRODID:-// - ECPv6.7.0//NONSGML v1.0//EN
CALSCALE:GREGORIAN
METHOD:PUBLISH
X-ORIGINAL-URL:https://cr-dialog.com
X-WR-CALDESC:Events for 
REFRESH-INTERVAL;VALUE=DURATION:PT1H
X-Robots-Tag:noindex
X-PUBLISHED-TTL:PT1H
BEGIN:VTIMEZONE
TZID:UTC
BEGIN:STANDARD
TZOFFSETFROM:+0000
TZOFFSETTO:+0000
TZNAME:UTC
DTSTART:20250101T000000
END:STANDARD
END:VTIMEZONE
BEGIN:VEVENT
DTSTART;TZID=UTC:20250528T090000
DTEND;TZID=UTC:20250528T090000
DTSTAMP:20260421T161700
CREATED:20250527T052730Z
LAST-MODIFIED:20250527T054103Z
UID:464-1748422800-1748422800@cr-dialog.com
SUMMARY:ประชุมใหญ่ทั้งหมด หารือวันที่ 5 วันสิ่งแวดล้อมโลก
DESCRIPTION:ประชุมใหญ่ทั้งหมด เวลา 9.00 -12.00 น. เพื่อดูงานภาพรวมสำหรับวันสวล.โลก
URL:https://cr-dialog.com/event/meet-01/
LOCATION:พิพิธภัณฑ์ศิลปะร่วมสมัยเมืองเชียงราย (CCAM) ขัวศิลปะแห่งใหม่
CATEGORIES:ประชุม เคลื่อนแม่น้ำ
END:VEVENT
END:VCALENDAR